BEGIN:VCALENDAR
VERSION:2.0
PRODID:icalendar-ruby
CALSCALE:GREGORIAN
METHOD:PUBLISH
BEGIN:VEVENT
DTSTAMP:20260424T134611Z
UID:7-1652448@liferevolution.tithelysetup8.com
DTSTART:20261104T030000Z
DTEND:20261104T040000Z
CLASS:PUBLIC
CREATED:20260424T042457
DESCRIPTION:
LAST-MODIFIED:20260424T042457
LOCATION:Facebook LIVE
SUMMARY:The WELL
URL;VALUE=URI:https://liferevolution.tithelysetup8.com/events/the-well/2026
 -11-03
ATTACH;FILENAME=IMG_0033.JPG;FMTTYPE=image/jpeg:https://dq5pwpg1q8ru0.cloud
 front.net/2021/10/19/14/02/09/4e19b16f-718c-4dec-a5c9-826017ad2116/IMG_003
 3.JPG
END:VEVENT
END:VCALENDAR
