BEGIN:VCALENDAR
VERSION:2.0
PRODID:icalendar-ruby
CALSCALE:GREGORIAN
METHOD:PUBLISH
BEGIN:VEVENT
DTSTAMP:20260422T163730Z
UID:5-1642211@liferevolution.tithelysetup8.com
DTSTART:20260913T180000Z
DTEND:20260913T190000Z
CLASS:PUBLIC
CREATED:20260422T071827
DESCRIPTION:Sunday Worship
LAST-MODIFIED:20260422T071827
LOCATION:
SUMMARY:Sunday Worship
URL;VALUE=URI:https://liferevolution.tithelysetup8.com/events/sunday-worshi
 p/2026-09-13
END:VEVENT
END:VCALENDAR
